BEGIN:VCALENDAR
VERSION:2.0
PRODID:-//Praxis J. Fischer - ECPv6.15.20//NONSGML v1.0//EN
CALSCALE:GREGORIAN
METHOD:PUBLISH
X-WR-CALNAME:Praxis J. Fischer
X-ORIGINAL-URL:https://www.praxis-j-fischer.de
X-WR-CALDESC:Veranstaltungen für Praxis J. Fischer
REFRESH-INTERVAL;VALUE=DURATION:PT1H
X-Robots-Tag:noindex
X-PUBLISHED-TTL:PT1H
BEGIN:VTIMEZONE
TZID:Europe/Berlin
BEGIN:DAYLIGHT
TZOFFSETFROM:+0100
TZOFFSETTO:+0200
TZNAME:CEST
DTSTART:20220327T010000
END:DAYLIGHT
BEGIN:STANDARD
TZOFFSETFROM:+0200
TZOFFSETTO:+0100
TZNAME:CET
DTSTART:20221030T010000
END:STANDARD
BEGIN:DAYLIGHT
TZOFFSETFROM:+0100
TZOFFSETTO:+0200
TZNAME:CEST
DTSTART:20230326T010000
END:DAYLIGHT
BEGIN:STANDARD
TZOFFSETFROM:+0200
TZOFFSETTO:+0100
TZNAME:CET
DTSTART:20231029T010000
END:STANDARD
BEGIN:DAYLIGHT
TZOFFSETFROM:+0100
TZOFFSETTO:+0200
TZNAME:CEST
DTSTART:20240331T010000
END:DAYLIGHT
BEGIN:STANDARD
TZOFFSETFROM:+0200
TZOFFSETTO:+0100
TZNAME:CET
DTSTART:20241027T010000
END:STANDARD
END:VTIMEZONE
BEGIN:VEVENT
DTSTART;TZID=Europe/Berlin:20230506T150000
DTEND;TZID=Europe/Berlin:20230506T180000
DTSTAMP:20260424T135240
CREATED:20221102T091815Z
LAST-MODIFIED:20230116T151240Z
UID:1861-1683385200-1683396000@www.praxis-j-fischer.de
SUMMARY:Embodied Life Kurzseminar 2 "längen und zentrieren" (Online)
DESCRIPTION:Für Teilnehmende von Embodied Lifeseminaren. \n  \nDie fünf Qualitäten des Embodied Life: \n1.) „erden und raumen“\, Sa. 11.03.2023 \n2.)“längen und zentrieren“\, Sa. 06.05.2023 \n3.) „atmen“\, Sa. 08.07.2023 \n 
URL:https://www.praxis-j-fischer.de/termin/embodied-life-kurzseminar-2-laengen-und-zentrieren-online/
CATEGORIES:Seminare
ATTACH;FMTTYPE=image/png:https://www.praxis-j-fischer.de/wp-content/uploads/2022/11/wellenspuren-im-sand.png
ORGANIZER;CN="Joachim Fischer":MAILTO:info@praxis-j-fischer.de
END:VEVENT
END:VCALENDAR