BEGIN:VCALENDAR
VERSION:2.0
PRODID:-//Praxis J. Fischer - ECPv6.15.20//NONSGML v1.0//EN
CALSCALE:GREGORIAN
METHOD:PUBLISH
X-ORIGINAL-URL:https://www.praxis-j-fischer.de
X-WR-CALDESC:Veranstaltungen für Praxis J. Fischer
REFRESH-INTERVAL;VALUE=DURATION:PT1H
X-Robots-Tag:noindex
X-PUBLISHED-TTL:PT1H
BEGIN:VTIMEZONE
TZID:Europe/Berlin
BEGIN:DAYLIGHT
TZOFFSETFROM:+0100
TZOFFSETTO:+0200
TZNAME:CEST
DTSTART:20220327T010000
END:DAYLIGHT
BEGIN:STANDARD
TZOFFSETFROM:+0200
TZOFFSETTO:+0100
TZNAME:CET
DTSTART:20221030T010000
END:STANDARD
BEGIN:DAYLIGHT
TZOFFSETFROM:+0100
TZOFFSETTO:+0200
TZNAME:CEST
DTSTART:20230326T010000
END:DAYLIGHT
BEGIN:STANDARD
TZOFFSETFROM:+0200
TZOFFSETTO:+0100
TZNAME:CET
DTSTART:20231029T010000
END:STANDARD
BEGIN:DAYLIGHT
TZOFFSETFROM:+0100
TZOFFSETTO:+0200
TZNAME:CEST
DTSTART:20240331T010000
END:DAYLIGHT
BEGIN:STANDARD
TZOFFSETFROM:+0200
TZOFFSETTO:+0100
TZNAME:CET
DTSTART:20241027T010000
END:STANDARD
END:VTIMEZONE
BEGIN:VEVENT
DTSTART;VALUE=DATE:20230623
DTEND;VALUE=DATE:20230626
DTSTAMP:20260424T123454
CREATED:20221102T083033Z
LAST-MODIFIED:20230116T151532Z
UID:1843-1687478400-1687737599@www.praxis-j-fischer.de
SUMMARY:Embodied Life / Gewahrsein „Ein Weg zu innerer Freiheit“ Kloster Ehrenstein
DESCRIPTION:Gewahrsein heißt\, mit jedem Moment unseres Seins vollständig verbunden zu sein. Dabei kann uns unser Körper ausgesprochen gut unterstützen.\nDenn unser Körper ist unser bester Lehrer. Mit Bewegungen aus der Feldenkraismethode\, Meditation und geführtem nach Innen\nschauen\, wollen wir die Beziehung zwischen Körper und Geist vertiefen. Damit wir mitfühlender mit uns selbst werden und mit anderen. \nZzgl. Unterkunft und Verpflegung: 120 € EZ \nZzgl. Unterkunft und Verpflegung: 110 € DZ
URL:https://www.praxis-j-fischer.de/termin/embodied-life-gewahrsein-ein-weg-zu-innerer-freiheit-kloster-ehrenstein-2/
LOCATION:Kloster Ehrenstein/Neustadt\, Kreuzbruderweg 1-2\, Neustadt\, Rheinland-Pfalz\, 53577
CATEGORIES:Unterwegs
ATTACH;FMTTYPE=image/jpeg:https://www.praxis-j-fischer.de/wp-content/uploads/2022/11/weg-im-park-vor-embodied-life-scaled.jpg
ORGANIZER;CN="Joachim Fischer":MAILTO:info@praxis-j-fischer.de
END:VEVENT
END:VCALENDAR