BEGIN:VCALENDAR
VERSION:2.0
PRODID:-//Praxis J. Fischer - ECPv6.15.20//NONSGML v1.0//EN
CALSCALE:GREGORIAN
METHOD:PUBLISH
X-WR-CALNAME:Praxis J. Fischer
X-ORIGINAL-URL:https://www.praxis-j-fischer.de
X-WR-CALDESC:Veranstaltungen für Praxis J. Fischer
REFRESH-INTERVAL;VALUE=DURATION:PT1H
X-Robots-Tag:noindex
X-PUBLISHED-TTL:PT1H
BEGIN:VTIMEZONE
TZID:Europe/Berlin
BEGIN:DAYLIGHT
TZOFFSETFROM:+0100
TZOFFSETTO:+0200
TZNAME:CEST
DTSTART:20220327T010000
END:DAYLIGHT
BEGIN:STANDARD
TZOFFSETFROM:+0200
TZOFFSETTO:+0100
TZNAME:CET
DTSTART:20221030T010000
END:STANDARD
BEGIN:DAYLIGHT
TZOFFSETFROM:+0100
TZOFFSETTO:+0200
TZNAME:CEST
DTSTART:20230326T010000
END:DAYLIGHT
BEGIN:STANDARD
TZOFFSETFROM:+0200
TZOFFSETTO:+0100
TZNAME:CET
DTSTART:20231029T010000
END:STANDARD
BEGIN:DAYLIGHT
TZOFFSETFROM:+0100
TZOFFSETTO:+0200
TZNAME:CEST
DTSTART:20240331T010000
END:DAYLIGHT
BEGIN:STANDARD
TZOFFSETFROM:+0200
TZOFFSETTO:+0100
TZNAME:CET
DTSTART:20241027T010000
END:STANDARD
END:VTIMEZONE
BEGIN:VEVENT
DTSTART;VALUE=DATE:20230626
DTEND;VALUE=DATE:20230629
DTSTAMP:20260424T113433
CREATED:20221102T082712Z
LAST-MODIFIED:20221121T121624Z
UID:1838-1687737600-1687996799@www.praxis-j-fischer.de
SUMMARY:Feldenkrais 2 „Entdecke die Vielfalt der eigenen Möglichkeiten“ Kloster Ehrenstein
DESCRIPTION:LEBEN bedeutet Bewegung!\nIn diesem Seminar wollen wir unsere vielfältigen Bewegungsmöglichkeiten mit Freude\, Heiterkeit und Neugier (wieder-)entdecken. Geben wir uns der Lust an Bewegung hin! \nZzgl. Unterkunft und Verpflegung: 120 € EZ \nZzgl. Unterkunft und Verpflegung: 110 € DZ
URL:https://www.praxis-j-fischer.de/termin/feldenkrais-2-entdecke-die-vielfalt-der-eigenen-moeglichkeiten-kloster-ehrenstein/
LOCATION:Kloster Ehrenstein/Neustadt\, Kreuzbruderweg 1-2\, Neustadt\, Rheinland-Pfalz\, 53577
CATEGORIES:Unterwegs
ATTACH;FMTTYPE=image/jpeg:https://www.praxis-j-fischer.de/wp-content/uploads/2022/11/bank-vor-feldenkrais-scaled.jpg
ORGANIZER;CN="Joachim Fischer":MAILTO:info@praxis-j-fischer.de
END:VEVENT
END:VCALENDAR