BEGIN:VCALENDAR
VERSION:2.0
PRODID:-//Praxis J. Fischer - ECPv6.15.20//NONSGML v1.0//EN
CALSCALE:GREGORIAN
METHOD:PUBLISH
X-ORIGINAL-URL:https://www.praxis-j-fischer.de
X-WR-CALDESC:Veranstaltungen für Praxis J. Fischer
REFRESH-INTERVAL;VALUE=DURATION:PT1H
X-Robots-Tag:noindex
X-PUBLISHED-TTL:PT1H
BEGIN:VTIMEZONE
TZID:Europe/Berlin
BEGIN:DAYLIGHT
TZOFFSETFROM:+0100
TZOFFSETTO:+0200
TZNAME:CEST
DTSTART:20220327T010000
END:DAYLIGHT
BEGIN:STANDARD
TZOFFSETFROM:+0200
TZOFFSETTO:+0100
TZNAME:CET
DTSTART:20221030T010000
END:STANDARD
BEGIN:DAYLIGHT
TZOFFSETFROM:+0100
TZOFFSETTO:+0200
TZNAME:CEST
DTSTART:20230326T010000
END:DAYLIGHT
BEGIN:STANDARD
TZOFFSETFROM:+0200
TZOFFSETTO:+0100
TZNAME:CET
DTSTART:20231029T010000
END:STANDARD
BEGIN:DAYLIGHT
TZOFFSETFROM:+0100
TZOFFSETTO:+0200
TZNAME:CEST
DTSTART:20240331T010000
END:DAYLIGHT
BEGIN:STANDARD
TZOFFSETFROM:+0200
TZOFFSETTO:+0100
TZNAME:CET
DTSTART:20241027T010000
END:STANDARD
END:VTIMEZONE
BEGIN:VEVENT
DTSTART;VALUE=DATE:20230902
DTEND;VALUE=DATE:20230909
DTSTAMP:20260424T090955
CREATED:20221102T083811Z
LAST-MODIFIED:20221109T120618Z
UID:1847-1693612800-1694217599@www.praxis-j-fischer.de
SUMMARY:Feldenkrais auf Spiekeroog
DESCRIPTION:Begleiten Sie mich auf die Insel der Entschleunigung.\nAnkommen!\nDie Seele baumeln lassen.\nSich mit dem Körper und seinen Bewegungen ausgiebig beschäftigen.\nNeue Bewegungsmuster kennenlernen und sich dem Fluss der Zeit hingeben. \nFür Unterkunft und Verpflegung bitte selbst sorgen.
URL:https://www.praxis-j-fischer.de/termin/feldenkrais-auf-spiekeroog-3/
LOCATION:Nordseeinsel Spiekeroog
CATEGORIES:Unterwegs
ORGANIZER;CN="Joachim Fischer":MAILTO:info@praxis-j-fischer.de
END:VEVENT
END:VCALENDAR