BEGIN:VCALENDAR
VERSION:2.0
PRODID:-//Praxis J. Fischer - ECPv6.15.20//NONSGML v1.0//EN
CALSCALE:GREGORIAN
METHOD:PUBLISH
X-ORIGINAL-URL:https://www.praxis-j-fischer.de
X-WR-CALDESC:Veranstaltungen für Praxis J. Fischer
REFRESH-INTERVAL;VALUE=DURATION:PT1H
X-Robots-Tag:noindex
X-PUBLISHED-TTL:PT1H
BEGIN:VTIMEZONE
TZID:Europe/Berlin
BEGIN:DAYLIGHT
TZOFFSETFROM:+0100
TZOFFSETTO:+0200
TZNAME:CEST
DTSTART:20230326T010000
END:DAYLIGHT
BEGIN:STANDARD
TZOFFSETFROM:+0200
TZOFFSETTO:+0100
TZNAME:CET
DTSTART:20231029T010000
END:STANDARD
BEGIN:DAYLIGHT
TZOFFSETFROM:+0100
TZOFFSETTO:+0200
TZNAME:CEST
DTSTART:20240331T010000
END:DAYLIGHT
BEGIN:STANDARD
TZOFFSETFROM:+0200
TZOFFSETTO:+0100
TZNAME:CET
DTSTART:20241027T010000
END:STANDARD
BEGIN:DAYLIGHT
TZOFFSETFROM:+0100
TZOFFSETTO:+0200
TZNAME:CEST
DTSTART:20250330T010000
END:DAYLIGHT
BEGIN:STANDARD
TZOFFSETFROM:+0200
TZOFFSETTO:+0100
TZNAME:CET
DTSTART:20251026T010000
END:STANDARD
END:VTIMEZONE
BEGIN:VEVENT
DTSTART;VALUE=DATE:20240614
DTEND;VALUE=DATE:20240617
DTSTAMP:20260423T193307
CREATED:20230927T071018Z
LAST-MODIFIED:20231010T131309Z
UID:1954-1718323200-1718582399@www.praxis-j-fischer.de
SUMMARY:Embodied Life  „Das Wunder des Augenblicks“
DESCRIPTION:Augenblick für Augenblick präsent zu sein\, lässt uns aus der träumenden und schlafenden Welt aufwachen. Durch den eigenen Körper\, den besten Lehrer\, lernen präsent zu sein\, hilft uns gelassener den Herausforderungen des Daseins begegnen zu können. Feldenkraislektionen\, stilles Sitzen und das Erforschen der eigenen innere Welt\, helfen uns dabei. \nZzgl. Unterkunft und Verpflegung:
URL:https://www.praxis-j-fischer.de/termin/embodied-life-das-wunder-des-augenblicks/
LOCATION:Kloster Ehrenstein/Neustadt\, Kreuzbruderweg 1-2\, Neustadt\, Rheinland-Pfalz\, 53577
CATEGORIES:Unterwegs
ATTACH;FMTTYPE=image/jpeg:https://www.praxis-j-fischer.de/wp-content/uploads/2023/09/wunder-des-augenblicks-scaled.jpeg
ORGANIZER;CN="Joachim Fischer":MAILTO:info@praxis-j-fischer.de
END:VEVENT
END:VCALENDAR