BEGIN:VCALENDAR
VERSION:2.0
PRODID:-//Praxis J. Fischer - ECPv6.15.20//NONSGML v1.0//EN
CALSCALE:GREGORIAN
METHOD:PUBLISH
X-WR-CALNAME:Praxis J. Fischer
X-ORIGINAL-URL:https://www.praxis-j-fischer.de
X-WR-CALDESC:Veranstaltungen für Praxis J. Fischer
REFRESH-INTERVAL;VALUE=DURATION:PT1H
X-Robots-Tag:noindex
X-PUBLISHED-TTL:PT1H
BEGIN:VTIMEZONE
TZID:Europe/Berlin
BEGIN:DAYLIGHT
TZOFFSETFROM:+0100
TZOFFSETTO:+0200
TZNAME:CEST
DTSTART:20230326T010000
END:DAYLIGHT
BEGIN:STANDARD
TZOFFSETFROM:+0200
TZOFFSETTO:+0100
TZNAME:CET
DTSTART:20231029T010000
END:STANDARD
BEGIN:DAYLIGHT
TZOFFSETFROM:+0100
TZOFFSETTO:+0200
TZNAME:CEST
DTSTART:20240331T010000
END:DAYLIGHT
BEGIN:STANDARD
TZOFFSETFROM:+0200
TZOFFSETTO:+0100
TZNAME:CET
DTSTART:20241027T010000
END:STANDARD
BEGIN:DAYLIGHT
TZOFFSETFROM:+0100
TZOFFSETTO:+0200
TZNAME:CEST
DTSTART:20250330T010000
END:DAYLIGHT
BEGIN:STANDARD
TZOFFSETFROM:+0200
TZOFFSETTO:+0100
TZNAME:CET
DTSTART:20251026T010000
END:STANDARD
END:VTIMEZONE
BEGIN:VEVENT
DTSTART;TZID=Europe/Berlin:20240831T140000
DTEND;TZID=Europe/Berlin:20240831T180000
DTSTAMP:20260423T155829
CREATED:20230927T071448Z
LAST-MODIFIED:20230927T081726Z
UID:1958-1725112800-1725127200@www.praxis-j-fischer.de
SUMMARY:Feldenkrais  „Augen-Blick“
DESCRIPTION:Ruhe für die Augen\, Erholung\, so wie das Verständnis das Augen und Aufrichtung zusammengehören.
URL:https://www.praxis-j-fischer.de/termin/feldenkrais-augen-blick/
LOCATION:Praxis für Bewusstheit und Bewegung\, Rheinstr. 40\, 56564 Neuwied
CATEGORIES:Seminare
ATTACH;FMTTYPE=image/jpeg:https://www.praxis-j-fischer.de/wp-content/uploads/2022/11/lilien-im-garten-scaled.jpeg
ORGANIZER;CN="Joachim Fischer":MAILTO:info@praxis-j-fischer.de
END:VEVENT
END:VCALENDAR