BEGIN:VCALENDAR
VERSION:2.0
PRODID:-//Praxis J. Fischer - ECPv6.15.20//NONSGML v1.0//EN
CALSCALE:GREGORIAN
METHOD:PUBLISH
X-ORIGINAL-URL:https://www.praxis-j-fischer.de
X-WR-CALDESC:Veranstaltungen für Praxis J. Fischer
REFRESH-INTERVAL;VALUE=DURATION:PT1H
X-Robots-Tag:noindex
X-PUBLISHED-TTL:PT1H
BEGIN:VTIMEZONE
TZID:Europe/Berlin
BEGIN:DAYLIGHT
TZOFFSETFROM:+0100
TZOFFSETTO:+0200
TZNAME:CEST
DTSTART:20220327T010000
END:DAYLIGHT
BEGIN:STANDARD
TZOFFSETFROM:+0200
TZOFFSETTO:+0100
TZNAME:CET
DTSTART:20221030T010000
END:STANDARD
BEGIN:DAYLIGHT
TZOFFSETFROM:+0100
TZOFFSETTO:+0200
TZNAME:CEST
DTSTART:20230326T010000
END:DAYLIGHT
BEGIN:STANDARD
TZOFFSETFROM:+0200
TZOFFSETTO:+0100
TZNAME:CET
DTSTART:20231029T010000
END:STANDARD
BEGIN:DAYLIGHT
TZOFFSETFROM:+0100
TZOFFSETTO:+0200
TZNAME:CEST
DTSTART:20240331T010000
END:DAYLIGHT
BEGIN:STANDARD
TZOFFSETFROM:+0200
TZOFFSETTO:+0100
TZNAME:CET
DTSTART:20241027T010000
END:STANDARD
END:VTIMEZONE
BEGIN:VEVENT
DTSTART;TZID=Europe/Berlin:20230429T093000
DTEND;TZID=Europe/Berlin:20230429T173000
DTSTAMP:20260424T140221
CREATED:20221102T085955Z
LAST-MODIFIED:20230116T150444Z
UID:1852-1682760600-1682789400@www.praxis-j-fischer.de
SUMMARY:Balance
DESCRIPTION:Gleichgewicht\, Koordination\, die spielerische Beschäftigung mit der Schwerkraft\, sowie Möglichkeiten mit der Feldenkraisrolle entdecken\, werden die Themen dieses Tagesseminars sein. \n(Die Rolle\, incl. Skript kann käuflich erworben werden\, 20 €)
URL:https://www.praxis-j-fischer.de/termin/balance/
LOCATION:Praxis für Bewusstheit und Bewegung\, Rheinstr. 40\, 56564 Neuwied
CATEGORIES:Seminare
ATTACH;FMTTYPE=image/jpeg:https://www.praxis-j-fischer.de/wp-content/uploads/2022/11/cami-de-cavalls-scaled.jpeg
ORGANIZER;CN="Joachim Fischer":MAILTO:info@praxis-j-fischer.de
END:VEVENT
END:VCALENDAR