BEGIN:VCALENDAR
VERSION:2.0
PRODID:-//Praxis J. Fischer - ECPv6.15.20//NONSGML v1.0//EN
CALSCALE:GREGORIAN
METHOD:PUBLISH
X-ORIGINAL-URL:https://www.praxis-j-fischer.de
X-WR-CALDESC:Veranstaltungen für Praxis J. Fischer
REFRESH-INTERVAL;VALUE=DURATION:PT1H
X-Robots-Tag:noindex
X-PUBLISHED-TTL:PT1H
BEGIN:VTIMEZONE
TZID:Europe/Berlin
BEGIN:DAYLIGHT
TZOFFSETFROM:+0100
TZOFFSETTO:+0200
TZNAME:CEST
DTSTART:20230326T010000
END:DAYLIGHT
BEGIN:STANDARD
TZOFFSETFROM:+0200
TZOFFSETTO:+0100
TZNAME:CET
DTSTART:20231029T010000
END:STANDARD
BEGIN:DAYLIGHT
TZOFFSETFROM:+0100
TZOFFSETTO:+0200
TZNAME:CEST
DTSTART:20240331T010000
END:DAYLIGHT
BEGIN:STANDARD
TZOFFSETFROM:+0200
TZOFFSETTO:+0100
TZNAME:CET
DTSTART:20241027T010000
END:STANDARD
BEGIN:DAYLIGHT
TZOFFSETFROM:+0100
TZOFFSETTO:+0200
TZNAME:CEST
DTSTART:20250330T010000
END:DAYLIGHT
BEGIN:STANDARD
TZOFFSETFROM:+0200
TZOFFSETTO:+0100
TZNAME:CET
DTSTART:20251026T010000
END:STANDARD
END:VTIMEZONE
BEGIN:VEVENT
DTSTART;VALUE=DATE:20240210
DTEND;VALUE=DATE:20240214
DTSTAMP:20260424T021841
CREATED:20230927T070229Z
LAST-MODIFIED:20231010T131349Z
UID:1947-1707523200-1707868799@www.praxis-j-fischer.de
SUMMARY:Embodied Life „Lebenslust und Seelenfutter“
DESCRIPTION:Mit Bewegungen aus der Feldenkraismethode\, Meditation und geführtem innerem Erforschen\,\nwollen wir die Beziehung zwischen Körper und Geist vertiefen und Achtsamkeit\, Präsenz\, Lebenstiefe und Herzlichkeit vermitteln.\nSo werden wir mitfühlender mit uns selbst und mit anderen. \nZzgl. Unterkunft und Verpflegung:
URL:https://www.praxis-j-fischer.de/termin/embodied-life-lebenslust-und-seelenfutter/
LOCATION:Kloster Ehrenstein/Neustadt\, Kreuzbruderweg 1-2\, Neustadt\, Rheinland-Pfalz\, 53577
CATEGORIES:Unterwegs
ATTACH;FMTTYPE=image/jpeg:https://www.praxis-j-fischer.de/wp-content/uploads/2023/09/lebenslust-und-seelenfutter.jpg
ORGANIZER;CN="Joachim Fischer":MAILTO:info@praxis-j-fischer.de
END:VEVENT
BEGIN:VEVENT
DTSTART;TZID=Europe/Berlin:20240224T093000
DTEND;TZID=Europe/Berlin:20240224T173000
DTSTAMP:20260424T021841
CREATED:20230927T070700Z
LAST-MODIFIED:20230927T082645Z
UID:1950-1708767000-1708795800@www.praxis-j-fischer.de
SUMMARY:Feldenkrais „Im Atem sind zweierlei Gnaden“
DESCRIPTION:Atmung ist Anfang und Ende. Sie versorgt uns mit Sauerstoff\, unterstützt die Aufrichtung\, hilft Schmerzen zu verringern und kann noch vieles mehr. Erfahren Sie\, dass bewegter Atem ein Alleskönner sein kann.
URL:https://www.praxis-j-fischer.de/termin/feldenkrais-im-atem-sind-zweierlei-gnaden/
LOCATION:Praxis für Bewusstheit und Bewegung\, Rheinstr. 40\, 56564 Neuwied
CATEGORIES:Seminare
ATTACH;FMTTYPE=image/jpeg:https://www.praxis-j-fischer.de/wp-content/uploads/2023/09/im-atem-sind-zweierlei-gnaden-oostkapelle-009.jpeg
ORGANIZER;CN="Joachim Fischer":MAILTO:info@praxis-j-fischer.de
END:VEVENT
END:VCALENDAR