BEGIN:VCALENDAR
VERSION:2.0
PRODID:-//Praxis J. Fischer - ECPv6.15.20//NONSGML v1.0//EN
CALSCALE:GREGORIAN
METHOD:PUBLISH
X-WR-CALNAME:Praxis J. Fischer
X-ORIGINAL-URL:https://www.praxis-j-fischer.de
X-WR-CALDESC:Veranstaltungen für Praxis J. Fischer
REFRESH-INTERVAL;VALUE=DURATION:PT1H
X-Robots-Tag:noindex
X-PUBLISHED-TTL:PT1H
BEGIN:VTIMEZONE
TZID:Europe/Berlin
BEGIN:DAYLIGHT
TZOFFSETFROM:+0100
TZOFFSETTO:+0200
TZNAME:CEST
DTSTART:20230326T010000
END:DAYLIGHT
BEGIN:STANDARD
TZOFFSETFROM:+0200
TZOFFSETTO:+0100
TZNAME:CET
DTSTART:20231029T010000
END:STANDARD
BEGIN:DAYLIGHT
TZOFFSETFROM:+0100
TZOFFSETTO:+0200
TZNAME:CEST
DTSTART:20240331T010000
END:DAYLIGHT
BEGIN:STANDARD
TZOFFSETFROM:+0200
TZOFFSETTO:+0100
TZNAME:CET
DTSTART:20241027T010000
END:STANDARD
BEGIN:DAYLIGHT
TZOFFSETFROM:+0100
TZOFFSETTO:+0200
TZNAME:CEST
DTSTART:20250330T010000
END:DAYLIGHT
BEGIN:STANDARD
TZOFFSETFROM:+0200
TZOFFSETTO:+0100
TZNAME:CET
DTSTART:20251026T010000
END:STANDARD
END:VTIMEZONE
BEGIN:VEVENT
DTSTART;TZID=Europe/Berlin:20241012T093000
DTEND;TZID=Europe/Berlin:20241012T173000
DTSTAMP:20260423T131322
CREATED:20230927T071934Z
LAST-MODIFIED:20231010T131143Z
UID:1962-1728725400-1728754200@www.praxis-j-fischer.de
SUMMARY:Embodied Life  „Nach Perlen tauchen“
DESCRIPTION:Wir Menschen neigen dazu\, Sorgen und Probleme zu überhöhen und verlieren viel zu leicht den Blick auf die Schönheiten des Daseins. Dabei tragen wir ein Vielfaches an kostbaren „Perlen“ in uns. Diese guten Erfahrungen wollen wir im Seminar heben und sie konditionieren\, so dass sie immer verfügbar sind.
URL:https://www.praxis-j-fischer.de/termin/embodied-life-nach-perlen-tauchen/
LOCATION:Praxis für Bewusstheit und Bewegung\, Rheinstr. 40\, 56564 Neuwied
CATEGORIES:Seminare
ATTACH;FMTTYPE=image/jpeg:https://www.praxis-j-fischer.de/wp-content/uploads/2023/09/nach-perlen-tauchenimg-2488-1-scaled.jpeg
ORGANIZER;CN="Joachim Fischer":MAILTO:info@praxis-j-fischer.de
END:VEVENT
BEGIN:VEVENT
DTSTART;VALUE=DATE:20241025
DTEND;VALUE=DATE:20241028
DTSTAMP:20260423T131322
CREATED:20230927T072144Z
LAST-MODIFIED:20230927T082557Z
UID:1964-1729814400-1730073599@www.praxis-j-fischer.de
SUMMARY:Feldenkrais  „Ethik der Bewegung“
DESCRIPTION:Bewusstheit bedeutet\, ein ethisches Verhalten zu sich selbst zu entwickeln. Auch in der Bewegung. An diesem Feldenkraiswochenende wollen wir entdecken\, dass unser Nervensystem am leichtesten lernt Bewegung zu verändern\, wenn wir uns selbst freundlich\, wartend und auch humorvoll begegnen.\nMachen Sie die Erfahrung\, dass Bewegungen\, mit Leichtigkeit ausgeführt\, froh und heiter stimmen können. \nZzgl. Unterkunft und Verpflegung:
URL:https://www.praxis-j-fischer.de/termin/feldenkrais-ethik-der-bewegung/
LOCATION:Kloster Ehrenstein/Neustadt\, Kreuzbruderweg 1-2\, Neustadt\, Rheinland-Pfalz\, 53577
CATEGORIES:Unterwegs
ATTACH;FMTTYPE=image/jpeg:https://www.praxis-j-fischer.de/wp-content/uploads/2023/09/bewegung-ist-ein-lebenselixierimg-2774.jpeg
ORGANIZER;CN="Joachim Fischer":MAILTO:info@praxis-j-fischer.de
END:VEVENT
END:VCALENDAR